BEGIN:VCALENDAR
VERSION:2.0
PRODID:-//Colorado Rocky Mountain School - ECPv6.9.0//NONSGML v1.0//EN
CALSCALE:GREGORIAN
METHOD:PUBLISH
X-ORIGINAL-URL:https://www.crms.org
X-WR-CALDESC:Events for Colorado Rocky Mountain School
REFRESH-INTERVAL;VALUE=DURATION:PT1H
X-Robots-Tag:noindex
X-PUBLISHED-TTL:PT1H
BEGIN:VTIMEZONE
TZID:America/Denver
BEGIN:DAYLIGHT
TZOFFSETFROM:-0700
TZOFFSETTO:-0600
TZNAME:MDT
DTSTART:20230312T090000
END:DAYLIGHT
BEGIN:STANDARD
TZOFFSETFROM:-0600
TZOFFSETTO:-0700
TZNAME:MST
DTSTART:20231105T080000
END:STANDARD
END:VTIMEZONE
BEGIN:VEVENT
DTSTART;VALUE=DATE:20230501
DTEND;VALUE=DATE:20230506
DTSTAMP:20260425T102346
CREATED:20220624T174554Z
LAST-MODIFIED:20220624T174554Z
UID:6297-1682899200-1683331199@www.crms.org
SUMMARY:AP exams
DESCRIPTION:
URL:https://www.crms.org/calendar/ap-exams/
CATEGORIES:Community
END:VEVENT
BEGIN:VEVENT
DTSTART;TZID=America/Denver:20230505T180000
DTEND;TZID=America/Denver:20230505T200000
DTSTAMP:20260425T102346
CREATED:20220718T175857Z
LAST-MODIFIED:20220718T175857Z
UID:6378-1683309600-1683316800@www.crms.org
SUMMARY:Senior Formal Dinner
DESCRIPTION:
URL:https://www.crms.org/calendar/senior-formal-dinner/
CATEGORIES:Community
END:VEVENT
END:VCALENDAR