BEGIN:VCALENDAR
VERSION:2.0
PRODID:-//Colorado Rocky Mountain School - ECPv6.9.0//NONSGML v1.0//EN
CALSCALE:GREGORIAN
METHOD:PUBLISH
X-WR-CALNAME:Colorado Rocky Mountain School
X-ORIGINAL-URL:https://www.crms.org
X-WR-CALDESC:Events for Colorado Rocky Mountain School
REFRESH-INTERVAL;VALUE=DURATION:PT1H
X-Robots-Tag:noindex
X-PUBLISHED-TTL:PT1H
BEGIN:VTIMEZONE
TZID:America/Denver
BEGIN:DAYLIGHT
TZOFFSETFROM:-0700
TZOFFSETTO:-0600
TZNAME:MDT
DTSTART:20240310T090000
END:DAYLIGHT
BEGIN:STANDARD
TZOFFSETFROM:-0600
TZOFFSETTO:-0700
TZNAME:MST
DTSTART:20241103T080000
END:STANDARD
END:VTIMEZONE
BEGIN:VEVENT
DTSTART;VALUE=DATE:20240428
DTEND;VALUE=DATE:20240504
DTSTAMP:20260423T212313
CREATED:20240428T060000Z
LAST-MODIFIED:20240229T201040Z
UID:7175-1714262400-1714780799@www.crms.org
SUMMARY:Spring Trip
DESCRIPTION:
URL:https://www.crms.org/calendar/spring-trip-4/
CATEGORIES:Community
END:VEVENT
BEGIN:VEVENT
DTSTART;VALUE=DATE:20240506
DTEND;VALUE=DATE:20240511
DTSTAMP:20260423T212313
CREATED:20230228T213610Z
LAST-MODIFIED:20230228T213610Z
UID:7178-1714953600-1715385599@www.crms.org
SUMMARY:AP Exams
DESCRIPTION:
URL:https://www.crms.org/calendar/ap-exams-3/
CATEGORIES:Community
END:VEVENT
BEGIN:VEVENT
DTSTART;VALUE=DATE:20240508
DTEND;VALUE=DATE:20240511
DTSTAMP:20260423T212313
CREATED:20230228T213636Z
LAST-MODIFIED:20230228T213636Z
UID:7180-1715126400-1715385599@www.crms.org
SUMMARY:Senior Exams
DESCRIPTION:
URL:https://www.crms.org/calendar/senior-exams-4/
CATEGORIES:Community
END:VEVENT
BEGIN:VEVENT
DTSTART;VALUE=DATE:20240508
DTEND;VALUE=DATE:20240509
DTSTAMP:20260423T212313
CREATED:20240508T060000Z
LAST-MODIFIED:20240502T201528Z
UID:8780-1715126400-1715212799@www.crms.org
SUMMARY:Academic Check
DESCRIPTION:Each term\, we set dates for academic checks. This is a time we encourage families to log into Canvas and recognize each student’s academic progress. Our third academic check is Wednesday\, May 8th. \nThe intention of the Canvas Parent portal is so that families can see the status of assignments or grades given. When used well\, an open grade book promotes productive conversations between parents/guardians\, students\, and teachers. Parents should not feel obligated to check their child’s grade status frequently as most students are better off with autonomy and the understanding that they hold responsibility for their academic achievement. Students are expected to use Canvas daily as they complete homework and keep track of assessments. \n*Please note that current grades give us only a small snapshot of a student’s performance and do not reflect their overall progress or final grade. \nCanvas Tip: The default settings for Canvas Notifications can be overwhelming and unneeded. We recommend that you turn down or turn off the notifications and check in whenever you like through the App or web.\nHow to Adjust Canvas Notification Settings
URL:https://www.crms.org/calendar/academic-check-4/
CATEGORIES:Community
END:VEVENT
BEGIN:VEVENT
DTSTART;VALUE=DATE:20240510
DTEND;VALUE=DATE:20240512
DTSTAMP:20260423T212313
CREATED:20230124T161849Z
LAST-MODIFIED:20230905T164927Z
UID:7001-1715299200-1715471999@www.crms.org
SUMMARY:Board of Trustees Meeting
DESCRIPTION:
URL:https://www.crms.org/calendar/bot-meeting-3/
CATEGORIES:Community
END:VEVENT
BEGIN:VEVENT
DTSTART;TZID=America/Denver:20240510T174500
DTEND;TZID=America/Denver:20240510T203000
DTSTAMP:20260423T212313
CREATED:20240511T000000Z
LAST-MODIFIED:20240507T203151Z
UID:7578-1715363100-1715373000@www.crms.org
SUMMARY:Senior Formal Dinner
DESCRIPTION:5:45 p.m. Arrival\n6:00 – 8:30 p.m. Dinner \nThe graduating class will kick off the end-of-year festivities with Senior Dinner (formal dress). \nAttendance is required for 12th graders.
URL:https://www.crms.org/calendar/senior-formal-dinner-2/
CATEGORIES:Community
END:VEVENT
BEGIN:VEVENT
DTSTART;VALUE=DATE:20240513
DTEND;VALUE=DATE:20240518
DTSTAMP:20260423T212313
CREATED:20230228T213745Z
LAST-MODIFIED:20230228T213745Z
UID:7184-1715558400-1715990399@www.crms.org
SUMMARY:AP Exams
DESCRIPTION:
URL:https://www.crms.org/calendar/ap-exams-4/
CATEGORIES:Community
END:VEVENT
BEGIN:VEVENT
DTSTART;VALUE=DATE:20240513
DTEND;VALUE=DATE:20240601
DTSTAMP:20260423T212313
CREATED:20240511T060000Z
LAST-MODIFIED:20240422T173047Z
UID:7182-1715558400-1717199999@www.crms.org
SUMMARY:Senior Projects
DESCRIPTION:
URL:https://www.crms.org/calendar/senior-projects/
CATEGORIES:Community
END:VEVENT
BEGIN:VEVENT
DTSTART;VALUE=DATE:20240517
DTEND;VALUE=DATE:20240518
DTSTAMP:20260423T212313
CREATED:20230228T213431Z
LAST-MODIFIED:20230523T195331Z
UID:7171-1715904000-1715990399@www.crms.org
SUMMARY:Scholarship Work Day
DESCRIPTION:
URL:https://www.crms.org/calendar/scholarship-work-day-4/
CATEGORIES:Community
END:VEVENT
BEGIN:VEVENT
DTSTART;TZID=America/Denver:20240517T180000
DTEND;TZID=America/Denver:20240517T190000
DTSTAMP:20260423T212313
CREATED:20240507T203446Z
LAST-MODIFIED:20240509T150643Z
UID:9265-1715968800-1715972400@www.crms.org
SUMMARY:Community BBQ Dinner
DESCRIPTION:Following Scholarship Work Day\, CRMS students and faculty will come together for a casual BBQ dinner.
URL:https://www.crms.org/calendar/community-bbq/
CATEGORIES:Community
END:VEVENT
BEGIN:VEVENT
DTSTART;VALUE=DATE:20240518
DTEND;VALUE=DATE:20240520
DTSTAMP:20260423T212313
CREATED:20230301T174017Z
LAST-MODIFIED:20231121T192222Z
UID:7193-1715990400-1716163199@www.crms.org
SUMMARY:CRMS Plant Sale
DESCRIPTION:The Annual Plant Sale is back – get your garden growing! \n\n\n\n\n\n\nTomatoes • Herbs • Veggies • Annual Flowers • Perennials •  Seed Potatoes • Onion Plants & More! \nSATURDAY\, MAY 18 •  9 AM – 3 PM\nSUNDAY\, MAY 19  •  9 AM – 3 PM \nPayment via Venmo (preferred)\, Cash\, Check\, or Credit Card\nAll garden starts are organically grown and are well-suited to the Roaring Fork Valley Climate.
URL:https://www.crms.org/calendar/crms-plant-sale/
CATEGORIES:Community
END:VEVENT
BEGIN:VEVENT
DTSTART;TZID=America/Denver:20240529T173000
DTEND;TZID=America/Denver:20240529T200000
DTSTAMP:20260423T212313
CREATED:20230807T190152Z
LAST-MODIFIED:20230821T172306Z
UID:7580-1717003800-1717012800@www.crms.org
SUMMARY:Community Dinner\, Art Show and Band Concert
DESCRIPTION:The community dinner is open to CRMS faculty and students only. Dress is casual. The Art Show and Band Concert are open to all community members. \n5:30 p.m. Visual Arts Show\n6:00 p.m. Dinner\n7:00 p.m. Band Concert
URL:https://www.crms.org/calendar/community-dinner-art-show-and-band-concert/
CATEGORIES:Community
END:VEVENT
END:VCALENDAR