BEGIN:VCALENDAR
VERSION:2.0
PRODID:-//Colorado Rocky Mountain School - ECPv6.9.0//NONSGML v1.0//EN
CALSCALE:GREGORIAN
METHOD:PUBLISH
X-WR-CALNAME:Colorado Rocky Mountain School
X-ORIGINAL-URL:https://www.crms.org
X-WR-CALDESC:Events for Colorado Rocky Mountain School
REFRESH-INTERVAL;VALUE=DURATION:PT1H
X-Robots-Tag:noindex
X-PUBLISHED-TTL:PT1H
BEGIN:VTIMEZONE
TZID:America/Denver
BEGIN:DAYLIGHT
TZOFFSETFROM:-0700
TZOFFSETTO:-0600
TZNAME:MDT
DTSTART:20230312T090000
END:DAYLIGHT
BEGIN:STANDARD
TZOFFSETFROM:-0600
TZOFFSETTO:-0700
TZNAME:MST
DTSTART:20231105T080000
END:STANDARD
BEGIN:DAYLIGHT
TZOFFSETFROM:-0700
TZOFFSETTO:-0600
TZNAME:MDT
DTSTART:20240310T090000
END:DAYLIGHT
BEGIN:STANDARD
TZOFFSETFROM:-0600
TZOFFSETTO:-0700
TZNAME:MST
DTSTART:20241103T080000
END:STANDARD
END:VTIMEZONE
BEGIN:VEVENT
DTSTART;VALUE=DATE:20231220
DTEND;VALUE=DATE:20240109
DTSTAMP:20260424T072255
CREATED:20230228T212847Z
LAST-MODIFIED:20230906T185214Z
UID:7156-1703030400-1704758399@www.crms.org
SUMMARY:Winter Break
DESCRIPTION:Wednesday\, December 20\, 2023 – Travel Day\nMonday\, January 8\, 2024 – Travel Day\nTuesday\, January 9th\, 2024 – Classes Resume \nTuesday\, December 19th\, is a full day of classes. Parents may pick up their students after 5:00 p.m. CRMS will arrange for Colorado Transportation Services (CTS) for those students traveling to/from Denver International Airport on Wednesday\, December 20\, and returning on Monday\, January 8. \nTravel itineraries are due to Debbi Fadli\, Front Desk Project/Attendance Manager\, by November 21\, 2023.
URL:https://www.crms.org/calendar/winter-break-3/
CATEGORIES:Community
END:VEVENT
BEGIN:VEVENT
DTSTART;VALUE=DATE:20240109
DTEND;VALUE=DATE:20240110
DTSTAMP:20260424T072255
CREATED:20230228T212918Z
LAST-MODIFIED:20231212T182933Z
UID:7159-1704758400-1704844799@www.crms.org
SUMMARY:Classes Resume
DESCRIPTION:Special Schedule for the week of January 9 – 12\, 2024.
URL:https://www.crms.org/calendar/classes-resume-4/
CATEGORIES:Community
END:VEVENT
BEGIN:VEVENT
DTSTART;VALUE=DATE:20240119
DTEND;VALUE=DATE:20240120
DTSTAMP:20260424T072255
CREATED:20231228T203615Z
LAST-MODIFIED:20231228T203615Z
UID:8709-1705622400-1705708799@www.crms.org
SUMMARY:Q3 Active Scholarship Deadline
DESCRIPTION:3rd Quarter Active Scholarships\nDue January 19 at 5:00 p.m. MT \nCRMS provides need-based assistance to help ease the financial burden for quarterly active or trip fees. Any student who has received financial aid for tuition is welcome to apply. Active scholarships are only applied toward participation fees and do not support equipment purchases\, ski passes\, travel expenses\, etc.\nPlease apply here. \nIf you have any questions\, please contact Molly Dorais\, Director of Enrollment & Tuition Assistance.
URL:https://www.crms.org/calendar/q3-active-scholarship-deadline-2/
CATEGORIES:Community
END:VEVENT
BEGIN:VEVENT
DTSTART;VALUE=DATE:20240119
DTEND;VALUE=DATE:20240120
DTSTAMP:20260424T072255
CREATED:20240118T214618Z
LAST-MODIFIED:20250728T150938Z
UID:8782-1705622400-1705708799@www.crms.org
SUMMARY:"Sign In" Weekend
DESCRIPTION:“Sign-In” Weekend #3: Winter Olympics \nBig events are more fun when more people participate\, so this is a closed evening for boarding students and an opportunity for day students to spend a night in the dorms for a night of fun! Day students who wish to spend the night on campus need to talk to a boarding student who can host them\, and then the two of them need to contact BJ Sbarra\, Director of Residential Life\, to submit their request. Space is limited\, so if you are interested in participating\, don’t hesitate to sign up! \nDay students are always invited to attend the festivities on Friday night\, even if not spending the night in the dorms. 
URL:https://www.crms.org/calendar/sign-in-weekend-3/
CATEGORIES:Community
END:VEVENT
BEGIN:VEVENT
DTSTART;TZID=America/Denver:20240122T081500
DTEND;TZID=America/Denver:20240122T091500
DTSTAMP:20260424T072255
CREATED:20231109T213959Z
LAST-MODIFIED:20231116T180805Z
UID:8364-1705911300-1705914900@www.crms.org
SUMMARY:Parent Book Club
DESCRIPTION:Parent Book Club: “Never Enough” by Jennifer Breheny Wallace\nMonday\, January 22nd\, 8:15 a.m. in the CRMS library\nRegister here \nOur next Parent Book Club selection is “Never Enough” by Jennifer Breheny Wallace. Resa Hayes LPC will join Head of School Jeff Leahy and Danika Davis\, CRMS Parent Manager\, to discuss this very relevant book with families. This book will immediately help you interact with your family in a more positive way. We encourage you to read or listen to it over the winter break\, however doing so is not necessary before attending our group discussions. \nResa Hayes is a Licensed Professional Counselor in the State of Colorado (LPC) as well as a Nationally Certified Counselor (NCC). She graduated Summa Cum Laude with a Master’s Degree in Clinical Mental Health Counseling from Adams State University and holds a Bachelor’s Degree in Psychology\, with emphasis in Child Development and Child Welfare Issues\, from the University of Colorado\, Boulder.
URL:https://www.crms.org/calendar/parent-book-club/
CATEGORIES:Community
END:VEVENT
BEGIN:VEVENT
DTSTART;TZID=America/Denver:20240123T180000
DTEND;TZID=America/Denver:20240123T190000
DTSTAMP:20260424T072255
CREATED:20230807T180514Z
LAST-MODIFIED:20230807T180529Z
UID:7568-1706032800-1706036400@www.crms.org
SUMMARY:Formal Dinner
DESCRIPTION:
URL:https://www.crms.org/calendar/formal-dinner-8/
CATEGORIES:Community
END:VEVENT
BEGIN:VEVENT
DTSTART;TZID=America/Denver:20240123T190000
DTEND;TZID=America/Denver:20240123T200000
DTSTAMP:20260424T072255
CREATED:20231109T213327Z
LAST-MODIFIED:20231116T180913Z
UID:8345-1706036400-1706040000@www.crms.org
SUMMARY:Virtual Event: Parent Book Club
DESCRIPTION:Parent Book Club: “Never Enough” by Jennifer Breheny Wallace\nTuesday\, January 23rd\, 7:00 p.m. via Zoom\nRegister here \nOur next Parent Book Club selection is “Never Enough” by Jennifer Breheny Wallace. Resa Hayes LPC will join Head of School Jeff Leahy and Danika Davis\, CRMS Parent Manager\, to discuss this very relevant book with families. This book will immediately help you interact with your family in a more positive way. We encourage you to read or listen to it over the winter break\, however doing so is not necessary before attending our group discussions. \nResa Hayes is a Licensed Professional Counselor in the State of Colorado (LPC) as well as a Nationally Certified Counselor (NCC). She graduated Summa Cum Laude with a Master’s Degree in Clinical Mental Health Counseling from Adams State University and holds a Bachelor’s Degree in Psychology\, with emphasis in Child Development and Child Welfare Issues\, from the University of Colorado\, Boulder.
URL:https://www.crms.org/calendar/virtual-event-parent-book-club/
CATEGORIES:Community
END:VEVENT
BEGIN:VEVENT
DTSTART;VALUE=DATE:20240124
DTEND;VALUE=DATE:20240125
DTSTAMP:20260424T072255
CREATED:20240118T181140Z
LAST-MODIFIED:20240118T181140Z
UID:8778-1706054400-1706140799@www.crms.org
SUMMARY:Academic Check
DESCRIPTION:Each term\, we set dates for academic checks. This is a time we encourage families to log into Canvas and recognize each student’s academic progress. Our second academic check is Wednesday\, January 24th. \nThe intention of the Canvas Parent portal is so that families can see the status of assignments or grades given. When used well\, an open grade book promotes productive conversations between parents/guardians\, students\, and teachers. Parents should not feel obligated to check their child’s grade status frequently as most students are better off with autonomy and the understanding that they hold responsibility for their academic achievement. Students are expected to use Canvas daily as they complete homework and keep track of assessments. \n*Please note that current grades give us only a small snapshot of a student’s performance and do not reflect their overall progress or final grade. \nCanvas Tip: The default settings for Canvas Notifications can be overwhelming and unneeded. We recommend that you turn down or turn off the notifications and check in whenever you like through the App or web.\nHow to Adjust Canvas Notification Settings
URL:https://www.crms.org/calendar/academic-check-3/
CATEGORIES:Community
END:VEVENT
END:VCALENDAR