BEGIN:VCALENDAR
VERSION:2.0
PRODID:-//Colorado Rocky Mountain School - ECPv6.9.0//NONSGML v1.0//EN
CALSCALE:GREGORIAN
METHOD:PUBLISH
X-WR-CALNAME:Colorado Rocky Mountain School
X-ORIGINAL-URL:https://www.crms.org
X-WR-CALDESC:Events for Colorado Rocky Mountain School
REFRESH-INTERVAL;VALUE=DURATION:PT1H
X-Robots-Tag:noindex
X-PUBLISHED-TTL:PT1H
BEGIN:VTIMEZONE
TZID:America/Denver
BEGIN:DAYLIGHT
TZOFFSETFROM:-0700
TZOFFSETTO:-0600
TZNAME:MDT
DTSTART:20230312T090000
END:DAYLIGHT
BEGIN:STANDARD
TZOFFSETFROM:-0600
TZOFFSETTO:-0700
TZNAME:MST
DTSTART:20231105T080000
END:STANDARD
END:VTIMEZONE
BEGIN:VEVENT
DTSTART;VALUE=DATE:20230824
DTEND;VALUE=DATE:20230903
DTSTAMP:20260424T210526
CREATED:20230228T205750Z
LAST-MODIFIED:20230228T205750Z
UID:7113-1692835200-1693699199@www.crms.org
SUMMARY:Wilderness Orientation
DESCRIPTION:Wilderness groups depart on Thursday\, August 24\, and return on Saturday\, September 2.
URL:https://www.crms.org/calendar/wilderness-orientation/
CATEGORIES:Community
END:VEVENT
BEGIN:VEVENT
DTSTART;VALUE=DATE:20230902
DTEND;VALUE=DATE:20230903
DTSTAMP:20260424T210526
CREATED:20230228T205914Z
LAST-MODIFIED:20230228T205914Z
UID:7117-1693612800-1693699199@www.crms.org
SUMMARY:Returning International Students Arrive
DESCRIPTION:International students may move into the dorms.
URL:https://www.crms.org/calendar/returning-international-students-arrive-2/
CATEGORIES:Community
END:VEVENT
BEGIN:VEVENT
DTSTART;VALUE=DATE:20230903
DTEND;VALUE=DATE:20230904
DTSTAMP:20260424T210526
CREATED:20230228T205950Z
LAST-MODIFIED:20230228T205950Z
UID:7119-1693699200-1693785599@www.crms.org
SUMMARY:Returning Boarding Students Arrive
DESCRIPTION:
URL:https://www.crms.org/calendar/returning-boarding-students-arrive-3/
CATEGORIES:Community
END:VEVENT
BEGIN:VEVENT
DTSTART;TZID=America/Denver:20230903T170000
DTEND;TZID=America/Denver:20230903T190000
DTSTAMP:20260424T210526
CREATED:20230228T210047Z
LAST-MODIFIED:20230825T211038Z
UID:7121-1693760400-1693767600@www.crms.org
SUMMARY:Convocation and Formal Dinner
DESCRIPTION:All students and faculty are required to attend.
URL:https://www.crms.org/calendar/convocation-and-formal-dinner/
CATEGORIES:Community
END:VEVENT
BEGIN:VEVENT
DTSTART;VALUE=DATE:20230904
DTEND;VALUE=DATE:20230905
DTSTAMP:20260424T210526
CREATED:20230228T210127Z
LAST-MODIFIED:20230228T210127Z
UID:7123-1693785600-1693871999@www.crms.org
SUMMARY:First Day of Classes - Trimester 1 begins
DESCRIPTION:
URL:https://www.crms.org/calendar/first-day-of-classes-trimester-1-begins/
CATEGORIES:Community
END:VEVENT
BEGIN:VEVENT
DTSTART;VALUE=DATE:20230909
DTEND;VALUE=DATE:20230911
DTSTAMP:20260424T210526
CREATED:20230228T210225Z
LAST-MODIFIED:20230831T175745Z
UID:7127-1694217600-1694390399@www.crms.org
SUMMARY:12th Grade College Bootcamp and Leadership Initiatives
DESCRIPTION:12th Grade College Counseling Bootcamp & Leadership Initiatives weekend allows seniors to dedicate time to the college process at the start of the school year. In addition\, seniors will work with Kayo Ogilby on their class leadership initiatives. A full schedule will be sent to seniors before the first day of school and can be found below. \n12th Grade College Counseling & Leadership Initiatives Schedule \nIf you have any questions\, please contact Betsy Bingham-Johns\, Director of College Counseling.
URL:https://www.crms.org/calendar/senior-leadership-and-college-counseling/
CATEGORIES:Community
END:VEVENT
BEGIN:VEVENT
DTSTART;TZID=America/Denver:20230909T083000
DTEND;TZID=America/Denver:20230909T123000
DTSTAMP:20260424T210526
CREATED:20230228T210304Z
LAST-MODIFIED:20230908T151614Z
UID:7129-1694248200-1694262600@www.crms.org
SUMMARY:All School Service Day
DESCRIPTION:All School Service Day (required for all students)\nSaturday\, September 9th\, 8:30 a.m. – 12:30 p.m.\nMeet inside the Bar Fork. \nAll students take part in this day of service. It’s a yearly tradition that unites us as a community; working together to support the\nplace where we learn and live. Please come dressed in clothes that can get dirty or painted\, closed-toe shoes\, sun hat\, gloves\, water\, and sunscreen. It’s going to be a beautiful day! \nIf you have questions\, please contact Paige Freeman\, Director of Active Curriculum.
URL:https://www.crms.org/calendar/all-school-service-day-2/
CATEGORIES:Community
END:VEVENT
BEGIN:VEVENT
DTSTART;TZID=America/Denver:20230909T083000
DTEND;TZID=America/Denver:20230909T183000
DTSTAMP:20260424T210526
CREATED:20230228T210157Z
LAST-MODIFIED:20230905T164156Z
UID:7125-1694248200-1694284200@www.crms.org
SUMMARY:9th Grade Welcome Weekend
DESCRIPTION:The purpose of the 9th Grade Welcome Weekend is to create connections and bonds between incoming 9th graders. Since the Wilderness Orientation groups are small by design\, students may not have had the opportunity to get to know all of their new classmates before the start of classes. The various 9th Grade Welcome activities will follow All School Service Day. \nDay students are only required to attend activities on Saturday\, September 9\, but are welcomed and encouraged to join activities on Friday evening and Sunday. Click below for the full schedule. \n9th Grade Welcome Weekend Schedule
URL:https://www.crms.org/calendar/freshman-welcome-weekend-3/
CATEGORIES:Community
END:VEVENT
BEGIN:VEVENT
DTSTART;TZID=America/Denver:20230913T163000
DTEND;TZID=America/Denver:20230913T180000
DTSTAMP:20260424T210526
CREATED:20230907T035521Z
LAST-MODIFIED:20230907T035931Z
UID:7817-1694622600-1694628000@www.crms.org
SUMMARY:Oystermeister: Pond Swim
DESCRIPTION:Wednesday\, September 13\, 4:30 – 6:00 p.m.\nMeet at the Kayak Pond \nWhat is Oystermeister? Seven times each school year\, students and faculty come together for a school-wide\, fun-for-all athletic event. Students pay an entry fee of $1 each to participate and all funds raised support student clubs. Regardless of ability\, we invite the entire CRMS community to join in – and don’t forget your school spirit\, costume\, and friendly competition! \nThe 7 events are: \n\nOpen water pond swim and party\n2.5-mile trail run on Tick Ridge\nCampus course cycling time trial\nRock climbing – bouldering in the CRMS Gym\n5K Nordic ski (skate or classic) at Spring Gulch\nAlpine downhill at the Snowmass Ski Area NASTAR course\nKayaking race starting at River Valley Ranch and ending at CRMS\n\nTo read more about the CRMS Oystermeiser tradition\, visit the CRMS blog.
URL:https://www.crms.org/calendar/oystermeister-pond-swim-2/
CATEGORIES:Community
END:VEVENT
BEGIN:VEVENT
DTSTART;VALUE=DATE:20230915
DTEND;VALUE=DATE:20230916
DTSTAMP:20260424T210526
CREATED:20230228T210341Z
LAST-MODIFIED:20230905T162911Z
UID:7131-1694736000-1694822399@www.crms.org
SUMMARY:Q1 Active Scholarships Deadline
DESCRIPTION:Apply here. \nStudents may also apply for a scholarship if their Fall Trip has a fee. \nPlease contact Molly Dorais\, Director of Enrollment\, with any questions.
URL:https://www.crms.org/calendar/q1-active-scholarships-deadline/
CATEGORIES:Community
END:VEVENT
BEGIN:VEVENT
DTSTART;VALUE=DATE:20230922
DTEND;VALUE=DATE:20230924
DTSTAMP:20260424T210526
CREATED:20230124T161732Z
LAST-MODIFIED:20230905T165044Z
UID:6995-1695340800-1695513599@www.crms.org
SUMMARY:Board of Trustees Meeting
DESCRIPTION:
URL:https://www.crms.org/calendar/bot-meeting/
CATEGORIES:Community
END:VEVENT
BEGIN:VEVENT
DTSTART;VALUE=DATE:20230930
DTEND;VALUE=DATE:20231001
DTSTAMP:20260424T210526
CREATED:20230228T210412Z
LAST-MODIFIED:20230228T210412Z
UID:7133-1696032000-1696118399@www.crms.org
SUMMARY:Fall Trip Prep
DESCRIPTION:
URL:https://www.crms.org/calendar/fall-trip-prep-2/
CATEGORIES:Community
END:VEVENT
END:VCALENDAR