BEGIN:VCALENDAR
VERSION:2.0
PRODID:-//Colorado Rocky Mountain School - ECPv6.9.0//NONSGML v1.0//EN
CALSCALE:GREGORIAN
METHOD:PUBLISH
X-WR-CALNAME:Colorado Rocky Mountain School
X-ORIGINAL-URL:https://www.crms.org
X-WR-CALDESC:Events for Colorado Rocky Mountain School
REFRESH-INTERVAL;VALUE=DURATION:PT1H
X-Robots-Tag:noindex
X-PUBLISHED-TTL:PT1H
BEGIN:VTIMEZONE
TZID:America/Denver
BEGIN:DAYLIGHT
TZOFFSETFROM:-0700
TZOFFSETTO:-0600
TZNAME:MDT
DTSTART:20220313T090000
END:DAYLIGHT
BEGIN:STANDARD
TZOFFSETFROM:-0600
TZOFFSETTO:-0700
TZNAME:MST
DTSTART:20221106T080000
END:STANDARD
BEGIN:DAYLIGHT
TZOFFSETFROM:-0700
TZOFFSETTO:-0600
TZNAME:MDT
DTSTART:20230312T090000
END:DAYLIGHT
BEGIN:STANDARD
TZOFFSETFROM:-0600
TZOFFSETTO:-0700
TZNAME:MST
DTSTART:20231105T080000
END:STANDARD
END:VTIMEZONE
BEGIN:VEVENT
DTSTART;VALUE=DATE:20221202
DTEND;VALUE=DATE:20221204
DTSTAMP:20260425T215801
CREATED:20220425T164927Z
LAST-MODIFIED:20220617T213435Z
UID:5992-1669939200-1670111999@www.crms.org
SUMMARY:Board of Trustee Meeting
DESCRIPTION:
URL:https://www.crms.org/calendar/board-of-trustee-meeting-6/
CATEGORIES:Community
END:VEVENT
BEGIN:VEVENT
DTSTART;TZID=America/Denver:20221202T180000
DTEND;TZID=America/Denver:20221202T193000
DTSTAMP:20260425T215801
CREATED:20220718T175633Z
LAST-MODIFIED:20221109T184847Z
UID:6370-1670004000-1670009400@www.crms.org
SUMMARY:Formal Dinner and Art Show
DESCRIPTION:Art show and music in Bar Fork begins at 6:00 p.m.\nFormal Dinner 6:30 – 7:30 p.m.
URL:https://www.crms.org/calendar/formal-dinner-2/
CATEGORIES:Community
END:VEVENT
BEGIN:VEVENT
DTSTART;VALUE=DATE:20221203
DTEND;VALUE=DATE:20221204
DTSTAMP:20260425T215801
CREATED:20220826T180126Z
LAST-MODIFIED:20220826T180126Z
UID:6445-1670025600-1670111999@www.crms.org
SUMMARY:SAT (optional)
DESCRIPTION:
URL:https://www.crms.org/calendar/sat-optional-2/
CATEGORIES:Community
END:VEVENT
BEGIN:VEVENT
DTSTART;TZID=America/Denver:20221206T165500
DTEND;TZID=America/Denver:20221206T175500
DTSTAMP:20260425T215801
CREATED:20220913T145942Z
LAST-MODIFIED:20220913T145951Z
UID:6542-1670345700-1670349300@www.crms.org
SUMMARY:Oystermeister: Climb
DESCRIPTION:What is Oystermeister? The series\, which attracts approximately 60-120 participants\, offers a diverse lineup of events. They include (in order of appearance): a 200m pond swim\, cyclocross race around campus\, a 2.5-mile trail run on Tick Ridge; rock climbing/bouldering in the CRMS gym\, a 5K Nordic ski (skate or classic) at Spring Gulch\, an alpine downhill at the Snowmass Ski Area NASTAR course\, and finally\, a downriver kayaking race starting at River Valley Ranch and ending at CRMS.
URL:https://www.crms.org/calendar/oystermeister-climb-2/
CATEGORIES:Community
END:VEVENT
BEGIN:VEVENT
DTSTART;VALUE=DATE:20221210
DTEND;VALUE=DATE:20221211
DTSTAMP:20260425T215801
CREATED:20220414T161058Z
LAST-MODIFIED:20220414T161058Z
UID:5908-1670630400-1670716799@www.crms.org
SUMMARY:Winter Break Travel Day
DESCRIPTION:
URL:https://www.crms.org/calendar/winter-break-travel-day/
CATEGORIES:Community
END:VEVENT
BEGIN:VEVENT
DTSTART;VALUE=DATE:20221211
DTEND;VALUE=DATE:20230103
DTSTAMP:20260425T215801
CREATED:20220414T161128Z
LAST-MODIFIED:20220414T161128Z
UID:5910-1670716800-1672703999@www.crms.org
SUMMARY:Winter Break
DESCRIPTION:
URL:https://www.crms.org/calendar/winter-break-2/
CATEGORIES:Community
END:VEVENT
END:VCALENDAR