BEGIN:VCALENDAR
VERSION:2.0
PRODID:-//Colorado Rocky Mountain School - ECPv6.9.0//NONSGML v1.0//EN
CALSCALE:GREGORIAN
METHOD:PUBLISH
X-ORIGINAL-URL:https://www.crms.org
X-WR-CALDESC:Events for Colorado Rocky Mountain School
REFRESH-INTERVAL;VALUE=DURATION:PT1H
X-Robots-Tag:noindex
X-PUBLISHED-TTL:PT1H
BEGIN:VTIMEZONE
TZID:America/Denver
BEGIN:DAYLIGHT
TZOFFSETFROM:-0700
TZOFFSETTO:-0600
TZNAME:MDT
DTSTART:20230312T090000
END:DAYLIGHT
BEGIN:STANDARD
TZOFFSETFROM:-0600
TZOFFSETTO:-0700
TZNAME:MST
DTSTART:20231105T080000
END:STANDARD
END:VTIMEZONE
BEGIN:VEVENT
DTSTART;VALUE=DATE:20231010
DTEND;VALUE=DATE:20231011
DTSTAMP:20260421T190650
CREATED:20231010T060000Z
LAST-MODIFIED:20240515T154030Z
UID:8013-1696896000-1696982399@www.crms.org
SUMMARY:PSAT - Required for 9th\, 10th & 11th-Grade Students
DESCRIPTION:The PSAT test is required for all 9th-11th grade students.\nThe PSAT for 11th grade students is the National Merit Scholar Qualifying Test. \n10th and 11th grade students will take the PSAT in the morning on Tuesday\, October 10th. 9th grade students will take the PSAT test after lunch on Tuesday\, October 10th. \nThe College Board’s PSAT provides you\, your child\, and the school with information on how well students are reaching benchmarks for college readiness. PSAT scores are a good indicator of how students will perform on the SAT. PSAT data is also helpful to the school as we align our academic curriculum with College Board benchmarks. Overall\, CRMS students outperform the national averages in demonstrating growth over time on College Board assessments. \n*PSAT test scores are not reported to colleges.\n*When score reports are posted in December\, we strongly encourage students to link their College Board account with Khan Academy so they can make use of this robust study tool. \nIf you have any questions or a conflict\, please contact Nancy Draina\, Academic Dean.
URL:https://www.crms.org/calendar/psat-required-for-9th-graders-2/
CATEGORIES:Admission
END:VEVENT
BEGIN:VEVENT
DTSTART;VALUE=DATE:20231014
DTEND;VALUE=DATE:20231015
DTSTAMP:20260421T190650
CREATED:20230515T160052Z
LAST-MODIFIED:20230515T160821Z
UID:7331-1697241600-1697327999@www.crms.org
SUMMARY:SSAT
DESCRIPTION:The SSAT is a virtually unspeeded assessment\, meaning that most students have adequate time to consider each question. Students in grades 8 -11 are assessed on their verbal\, math\, and reading skills. A non-scored writing sample is also included to assess writing ability. The SSAT often concludes with an experimental section that isn’t scored or reported but is essential to validating future questions.  Learn more and register at https://www.ssat.org/about/about-the-ssat \nCRMS is test-optional for the 2023-24 admission cycle.
URL:https://www.crms.org/calendar/ssat/2023-10-14/
CATEGORIES:Admission
END:VEVENT
END:VCALENDAR