BEGIN:VCALENDAR
VERSION:2.0
PRODID:-//Colorado Rocky Mountain School - ECPv6.9.0//NONSGML v1.0//EN
CALSCALE:GREGORIAN
METHOD:PUBLISH
X-ORIGINAL-URL:https://www.crms.org
X-WR-CALDESC:Events for Colorado Rocky Mountain School
REFRESH-INTERVAL;VALUE=DURATION:PT1H
X-Robots-Tag:noindex
X-PUBLISHED-TTL:PT1H
BEGIN:VTIMEZONE
TZID:America/Denver
BEGIN:DAYLIGHT
TZOFFSETFROM:-0700
TZOFFSETTO:-0600
TZNAME:MDT
DTSTART:20220313T090000
END:DAYLIGHT
BEGIN:STANDARD
TZOFFSETFROM:-0600
TZOFFSETTO:-0700
TZNAME:MST
DTSTART:20221106T080000
END:STANDARD
END:VTIMEZONE
BEGIN:VEVENT
DTSTART;TZID=America/Denver:20221021T090000
DTEND;TZID=America/Denver:20221021T110000
DTSTAMP:20260423T125434
CREATED:20220915T030214Z
LAST-MODIFIED:20220915T030214Z
UID:6555-1666342800-1666350000@www.crms.org
SUMMARY:Admission - Fall Open House
DESCRIPTION:Learn more about Colorado Rocky Mountain School and the application process for the 2023-24 school year. The program will include:  \n• Campus tour with a student ambassador\n• Overview presentation with Molly Dorais\, Director of Enrollment \nPlease click here to register.
URL:https://www.crms.org/calendar/admission-fall-open-house/
CATEGORIES:Admission
END:VEVENT
END:VCALENDAR