BEGIN:VCALENDAR
VERSION:2.0
PRODID:-//Colorado Rocky Mountain School - ECPv6.9.0//NONSGML v1.0//EN
CALSCALE:GREGORIAN
METHOD:PUBLISH
X-ORIGINAL-URL:https://www.crms.org
X-WR-CALDESC:Events for Colorado Rocky Mountain School
REFRESH-INTERVAL;VALUE=DURATION:PT1H
X-Robots-Tag:noindex
X-PUBLISHED-TTL:PT1H
BEGIN:VTIMEZONE
TZID:America/Denver
BEGIN:DAYLIGHT
TZOFFSETFROM:-0700
TZOFFSETTO:-0600
TZNAME:MDT
DTSTART:20210314T090000
END:DAYLIGHT
BEGIN:STANDARD
TZOFFSETFROM:-0600
TZOFFSETTO:-0700
TZNAME:MST
DTSTART:20211107T080000
END:STANDARD
END:VTIMEZONE
BEGIN:VEVENT
DTSTART;TZID=America/Denver:20210518T173000
DTEND;TZID=America/Denver:20210518T183000
DTSTAMP:20260425T090111
CREATED:20210430T154555Z
LAST-MODIFIED:20210430T154555Z
UID:4660-1621359000-1621362600@www.crms.org
SUMMARY:7th Grade Information Session for 2022-23
DESCRIPTION:Please join CRMS Director of Enrollment\, Molly Dorais\, for a virtual information session for current 7th graders to learn more about Colorado Rocky Mountain School and the application process. \nClick here to register.
URL:https://www.crms.org/calendar/7th-grade-information-session-for-2022-23/
CATEGORIES:Admission
END:VEVENT
END:VCALENDAR