BEGIN:VCALENDAR
VERSION:2.0
PRODID:-//Colorado Rocky Mountain School - ECPv6.9.0//NONSGML v1.0//EN
CALSCALE:GREGORIAN
METHOD:PUBLISH
X-ORIGINAL-URL:https://www.crms.org
X-WR-CALDESC:Events for Colorado Rocky Mountain School
REFRESH-INTERVAL;VALUE=DURATION:PT1H
X-Robots-Tag:noindex
X-PUBLISHED-TTL:PT1H
BEGIN:VTIMEZONE
TZID:America/Denver
BEGIN:DAYLIGHT
TZOFFSETFROM:-0700
TZOFFSETTO:-0600
TZNAME:MDT
DTSTART:20230312T090000
END:DAYLIGHT
BEGIN:STANDARD
TZOFFSETFROM:-0600
TZOFFSETTO:-0700
TZNAME:MST
DTSTART:20231105T080000
END:STANDARD
BEGIN:DAYLIGHT
TZOFFSETFROM:-0700
TZOFFSETTO:-0600
TZNAME:MDT
DTSTART:20240310T090000
END:DAYLIGHT
BEGIN:STANDARD
TZOFFSETFROM:-0600
TZOFFSETTO:-0700
TZNAME:MST
DTSTART:20241103T080000
END:STANDARD
BEGIN:DAYLIGHT
TZOFFSETFROM:-0700
TZOFFSETTO:-0600
TZNAME:MDT
DTSTART:20250309T090000
END:DAYLIGHT
BEGIN:STANDARD
TZOFFSETFROM:-0600
TZOFFSETTO:-0700
TZNAME:MST
DTSTART:20251102T080000
END:STANDARD
BEGIN:DAYLIGHT
TZOFFSETFROM:-0700
TZOFFSETTO:-0600
TZNAME:MDT
DTSTART:20260308T090000
END:DAYLIGHT
BEGIN:STANDARD
TZOFFSETFROM:-0600
TZOFFSETTO:-0700
TZNAME:MST
DTSTART:20261101T080000
END:STANDARD
END:VTIMEZONE
BEGIN:VEVENT
DTSTART;TZID=America/Denver:20231212T170000
DTEND;TZID=America/Denver:20231212T180000
DTSTAMP:20260423T180910
CREATED:20231024T160416Z
LAST-MODIFIED:20231121T201607Z
UID:8275-1702400400-1702404000@www.crms.org
SUMMARY:Admission Virtual Information Session
DESCRIPTION:Signature CRMS Programs \nJoin Molly Dorais\, Director of Enrollment & Tuition Assistance\, for a presentation of Colorado Rocky Mountain School and explore some of our unique programs that are unlike anything you will find at other boarding schools: Outdoor Expedition Offerings\, Two-week Interim Program\, & Three-week Senior Project. \nOur Virtual Information Sessions are held via zoom. Please click here to register.
URL:https://www.crms.org/calendar/admission-virtual-information-session-4/
CATEGORIES:Admission
END:VEVENT
BEGIN:VEVENT
DTSTART;VALUE=DATE:20240405
DTEND;VALUE=DATE:20240406
DTSTAMP:20260423T180910
CREATED:20240111T212845Z
LAST-MODIFIED:20240111T213708Z
UID:8739-1712275200-1712361599@www.crms.org
SUMMARY:Admission: Experience CRMS Day
DESCRIPTION:Admitted students and their families are invited to spend the day on campus going to classes\, eating in the dining hall\, and participating in the afternoon sports\, service and arts programs.
URL:https://www.crms.org/calendar/admission-experience-day/
CATEGORIES:Admission
END:VEVENT
BEGIN:VEVENT
DTSTART;VALUE=DATE:20250215
DTEND;VALUE=DATE:20250216
DTSTAMP:20260423T180910
CREATED:20250123T184944Z
LAST-MODIFIED:20250123T184944Z
UID:10643-1739577600-1739663999@www.crms.org
SUMMARY:Tuition Assistance Applications Due for 2025
DESCRIPTION:
URL:https://www.crms.org/calendar/tuition-assistance-applications-due-for-2025/
CATEGORIES:Admission
END:VEVENT
BEGIN:VEVENT
DTSTART;VALUE=DATE:20250404
DTEND;VALUE=DATE:20250405
DTSTAMP:20260423T180910
CREATED:20250221T163459Z
LAST-MODIFIED:20250221T163459Z
UID:10984-1743724800-1743811199@www.crms.org
SUMMARY:Admission: Experience CRMS Day
DESCRIPTION:Admitted students and their families are invited to spend the day on campus going to classes\, eating in the dining hall\, and participating in the afternoon sports\, service and arts programs.
URL:https://www.crms.org/calendar/admission-experience-crms-day/
CATEGORIES:Admission
END:VEVENT
BEGIN:VEVENT
DTSTART;TZID=America/Denver:20250911T090000
DTEND;TZID=America/Denver:20250911T110000
DTSTAMP:20260423T180910
CREATED:20240111T212646Z
LAST-MODIFIED:20250829T163521Z
UID:8737-1757581200-1757588400@www.crms.org
SUMMARY:Admission: Fall Open House
DESCRIPTION:Fall Open Houses \nThursday\, September 11\, 2025\, 9:00 – 11:00 am\nThursday\, October 9\, 2025\, 9:00 – 11:00 am\nTuesday\, October 21\, 2025\, 5:00 – 6:00 pm (*no campus tour)\nTuesday\, November 11\, 2025\, 9:00 – 11:00 am\nThursday\, December 11\, 2025\, 9:00 – 11:00 am \nWe welcome you to join us for an overview presentation of Colorado Rocky Mountain School’s programs and admission process by Molly Dorais\, Director of Enrollment & Tuition Assistance\, as well as campus tours* with our student ambassadors. \nPlease register in advance. We hope to see you there!
URL:https://www.crms.org/calendar/admission-spring-open-house/2025-09-11/
CATEGORIES:Admission
END:VEVENT
BEGIN:VEVENT
DTSTART;TZID=America/Denver:20251009T090000
DTEND;TZID=America/Denver:20251009T110000
DTSTAMP:20260423T180910
CREATED:20240111T212646Z
LAST-MODIFIED:20240111T212646Z
UID:12020-1760000400-1760007600@www.crms.org
SUMMARY:Admission: Fall Open House
DESCRIPTION:Fall Open Houses \nThursday\, September 11\, 2025\, 9:00 – 11:00 am\nThursday\, October 9\, 2025\, 9:00 – 11:00 am\nTuesday\, October 21\, 2025\, 5:00 – 6:00 pm (*no campus tour)\nTuesday\, November 11\, 2025\, 9:00 – 11:00 am\nThursday\, December 11\, 2025\, 9:00 – 11:00 am \nWe welcome you to join us for an overview presentation of Colorado Rocky Mountain School’s programs and admission process by Molly Dorais\, Director of Enrollment & Tuition Assistance\, as well as campus tours* with our student ambassadors. \nPlease register in advance. We hope to see you there!
URL:https://www.crms.org/calendar/admission-spring-open-house/2025-10-09/
CATEGORIES:Admission
END:VEVENT
BEGIN:VEVENT
DTSTART;TZID=America/Denver:20251021T170000
DTEND;TZID=America/Denver:20251021T180000
DTSTAMP:20260423T180910
CREATED:20240111T212646Z
LAST-MODIFIED:20240111T212646Z
UID:12021-1761066000-1761069600@www.crms.org
SUMMARY:Admission: Fall Open House
DESCRIPTION:Fall Open Houses \nThursday\, September 11\, 2025\, 9:00 – 11:00 am\nThursday\, October 9\, 2025\, 9:00 – 11:00 am\nTuesday\, October 21\, 2025\, 5:00 – 6:00 pm (*no campus tour)\nTuesday\, November 11\, 2025\, 9:00 – 11:00 am\nThursday\, December 11\, 2025\, 9:00 – 11:00 am \nWe welcome you to join us for an overview presentation of Colorado Rocky Mountain School’s programs and admission process by Molly Dorais\, Director of Enrollment & Tuition Assistance\, as well as campus tours* with our student ambassadors. \nPlease register in advance. We hope to see you there!
URL:https://www.crms.org/calendar/admission-spring-open-house/2025-10-21/
CATEGORIES:Admission
END:VEVENT
BEGIN:VEVENT
DTSTART;TZID=America/Denver:20251111T090000
DTEND;TZID=America/Denver:20251111T110000
DTSTAMP:20260423T180910
CREATED:20240111T212646Z
LAST-MODIFIED:20240111T212646Z
UID:12022-1762851600-1762858800@www.crms.org
SUMMARY:Admission: Fall Open House
DESCRIPTION:Fall Open Houses \nThursday\, September 11\, 2025\, 9:00 – 11:00 am\nThursday\, October 9\, 2025\, 9:00 – 11:00 am\nTuesday\, October 21\, 2025\, 5:00 – 6:00 pm (*no campus tour)\nTuesday\, November 11\, 2025\, 9:00 – 11:00 am\nThursday\, December 11\, 2025\, 9:00 – 11:00 am \nWe welcome you to join us for an overview presentation of Colorado Rocky Mountain School’s programs and admission process by Molly Dorais\, Director of Enrollment & Tuition Assistance\, as well as campus tours* with our student ambassadors. \nPlease register in advance. We hope to see you there!
URL:https://www.crms.org/calendar/admission-spring-open-house/2025-11-11/
CATEGORIES:Admission
END:VEVENT
BEGIN:VEVENT
DTSTART;TZID=America/Denver:20251218T090000
DTEND;TZID=America/Denver:20251218T110000
DTSTAMP:20260423T180910
CREATED:20240111T212646Z
LAST-MODIFIED:20251107T172927Z
UID:12023-1766048400-1766055600@www.crms.org
SUMMARY:Admission: Fall Open House
DESCRIPTION:Fall Open Houses \nThursday\, September 11\, 2025\, 9:00 – 11:00 am\nThursday\, October 9\, 2025\, 9:00 – 11:00 am\nTuesday\, October 21\, 2025\, 5:00 – 6:00 pm (*no campus tour)\nTuesday\, November 11\, 2025\, 9:00 – 11:00 am\nThursday\, December 18\, 2025\, 9:00 – 11:00 am \nWe welcome you to join us for an overview presentation of Colorado Rocky Mountain School’s programs and admission process by Molly Dorais\, Director of Enrollment & Tuition Assistance\, as well as campus tours* with our student ambassadors. \nPlease register in advance. We hope to see you there!
URL:https://www.crms.org/calendar/admission-spring-open-house-2025-12-11/
CATEGORIES:Admission
END:VEVENT
BEGIN:VEVENT
DTSTART;VALUE=DATE:20260410
DTEND;VALUE=DATE:20260411
DTSTAMP:20260423T180910
CREATED:20260309T185959Z
LAST-MODIFIED:20260309T185959Z
UID:13076-1775779200-1775865599@www.crms.org
SUMMARY:Admission: Experience CRMS Day
DESCRIPTION:Admitted students and their families are invited to spend the day on campus going to classes\, eating in the dining hall\, and participating in the afternoon sports\, service and arts programs.
URL:https://www.crms.org/calendar/admission-experience-crms-day-2/
CATEGORIES:Admission
END:VEVENT
END:VCALENDAR