BEGIN:VCALENDAR
VERSION:2.0
PRODID:-//Colorado Rocky Mountain School - ECPv6.9.0//NONSGML v1.0//EN
CALSCALE:GREGORIAN
METHOD:PUBLISH
X-ORIGINAL-URL:https://www.crms.org
X-WR-CALDESC:Events for Colorado Rocky Mountain School
REFRESH-INTERVAL;VALUE=DURATION:PT1H
X-Robots-Tag:noindex
X-PUBLISHED-TTL:PT1H
BEGIN:VTIMEZONE
TZID:America/Denver
BEGIN:DAYLIGHT
TZOFFSETFROM:-0700
TZOFFSETTO:-0600
TZNAME:MDT
DTSTART:20220313T090000
END:DAYLIGHT
BEGIN:STANDARD
TZOFFSETFROM:-0600
TZOFFSETTO:-0700
TZNAME:MST
DTSTART:20221106T080000
END:STANDARD
END:VTIMEZONE
BEGIN:VEVENT
DTSTART;TZID=America/Denver:20221004T090000
DTEND;TZID=America/Denver:20221004T100000
DTSTAMP:20260423T111505
CREATED:20220927T161521Z
LAST-MODIFIED:20220927T161521Z
UID:6583-1664874000-1664877600@www.crms.org
SUMMARY:Tuesday Tours
DESCRIPTION:The Admission Office staff is offering campus tours every Tuesday at 9:00 a.m. MT. These are best suited to students and families interested in learning more about the program but not yet ready to apply and interview. \nTo sign up for a Tuesday Tour\, please click here.
URL:https://www.crms.org/calendar/tuesday-tours/2022-10-04/
CATEGORIES:Admission
END:VEVENT
END:VCALENDAR