BEGIN:VCALENDAR
VERSION:2.0
PRODID:-//Colorado Rocky Mountain School - ECPv6.9.0//NONSGML v1.0//EN
CALSCALE:GREGORIAN
METHOD:PUBLISH
X-ORIGINAL-URL:https://www.crms.org
X-WR-CALDESC:Events for Colorado Rocky Mountain School
REFRESH-INTERVAL;VALUE=DURATION:PT1H
X-Robots-Tag:noindex
X-PUBLISHED-TTL:PT1H
BEGIN:VTIMEZONE
TZID:America/Denver
BEGIN:DAYLIGHT
TZOFFSETFROM:-0700
TZOFFSETTO:-0600
TZNAME:MDT
DTSTART:20220313T090000
END:DAYLIGHT
BEGIN:STANDARD
TZOFFSETFROM:-0600
TZOFFSETTO:-0700
TZNAME:MST
DTSTART:20221106T080000
END:STANDARD
END:VTIMEZONE
BEGIN:VEVENT
DTSTART;VALUE=DATE:20220312
DTEND;VALUE=DATE:20220313
DTSTAMP:20260421T030859
CREATED:20210505T170823Z
LAST-MODIFIED:20210505T170823Z
UID:4723-1647043200-1647129599@www.crms.org
SUMMARY:SAT Testing Date
DESCRIPTION:This is a primary test date for CRMS juniors.
URL:https://www.crms.org/calendar/sat-testing-date-5/
CATEGORIES:Community
END:VEVENT
BEGIN:VEVENT
DTSTART;TZID=America/Denver:20220312T183000
DTEND;TZID=America/Denver:20220312T193000
DTSTAMP:20260421T030859
CREATED:20220304T155004Z
LAST-MODIFIED:20220304T155004Z
UID:5772-1647109800-1647113400@www.crms.org
SUMMARY:Winter Visual Art Show and Musical Theatre performance
DESCRIPTION:Parents are welcome to view the Visual Art Show (in the Bar Fork Gallery) at 6:30 p.m. and the Musical Theatre production (in the Barn) at 7:00 p.m. Masks are required in the Barn.
URL:https://www.crms.org/calendar/winter-visual-art-show-and-musical-theatre-performance/
CATEGORIES:Community
END:VEVENT
END:VCALENDAR